BEGIN:VCALENDAR
VERSION:2.0
PRODID:-//ChamberMaster//Event Calendar 2.0//EN
METHOD:PUBLISH
X-PUBLISHED-TTL:P3D
REFRESH-INTERVAL:P3D
CALSCALE:GREGORIAN
BEGIN:VEVENT
DTSTART:20230413T230000Z
DTEND:20230414T020000Z
X-MICROSOFT-CDO-ALLDAYEVENT:FALSE
SUMMARY:100 Club of Brazoria County Law Enforcement Appreciation Banquet
DESCRIPTION:100 Club Law Enforcement Appreciation Banquet honoring local law enforcement\, the Officer of the Year\, and Friend of Law Enforcement
X-ALT-DESC;FMTTYPE=text/html:100 Club Law Enforcement Appreciation Banquet honoring local law enforcement\, the Officer of the Year\, and Friend of Law Enforcement
LOCATION:Doris Williams Civic Center Ballroom
UID:e.163.27055
SEQUENCE:3
DTSTAMP:20260425T150222Z
URL:https://business.angletonchamber.org/events/details/100-club-of-brazoria-county-law-enforcement-appreciation-banquet-04-13-2023-27055
END:VEVENT

END:VCALENDAR
