BEGIN:VCALENDAR
VERSION:2.0
PRODID:-//ChamberMaster//Event Calendar 2.0//EN
METHOD:PUBLISH
X-PUBLISHED-TTL:P3D
REFRESH-INTERVAL:P3D
CALSCALE:GREGORIAN
BEGIN:VEVENT
DTSTART:20250424T230000Z
DTEND:20250425T020000Z
X-MICROSOFT-CDO-ALLDAYEVENT:FALSE
SUMMARY:100 Club of Brazoria County Law Enforcement Appreciation Banquet
DESCRIPTION:2025 100 Club of Brazoria County Law Enforcement Appreciation Banquet.
X-ALT-DESC;FMTTYPE=text/html:2025 100 Club of Brazoria County Law Enforcement Appreciation Banquet.
LOCATION:Doris Williams Civic Center Ballroom
UID:e.163.27735
SEQUENCE:3
DTSTAMP:20260420T103423Z
URL:https://business.angletonchamber.org/events/details/100-club-of-brazoria-county-law-enforcement-appreciation-banquet-04-24-2025-27735
END:VEVENT

END:VCALENDAR
