BEGIN:VCALENDAR
VERSION:2.0
PRODID:-//ChamberMaster//Event Calendar 2.0//EN
METHOD:PUBLISH
X-PUBLISHED-TTL:P3D
REFRESH-INTERVAL:P3D
CALSCALE:GREGORIAN
BEGIN:VEVENT
DTSTART:20201020T163000Z
DTEND:20201020T173000Z
X-MICROSOFT-CDO-ALLDAYEVENT:FALSE
SUMMARY:2021 Leadership Planning Committee Meeting
DESCRIPTION:2021 Leadership Angleton Planning Committee Meeting
X-ALT-DESC;FMTTYPE=text/html:2021 Leadership Angleton Planning Committee Meeting
LOCATION:The Chamber or "ZOOM"
UID:e.163.25901
SEQUENCE:3
DTSTAMP:20260424T194828Z
URL:https://business.angletonchamber.org/events/details/2021-leadership-planning-committee-meeting-25901
END:VEVENT

END:VCALENDAR
