BEGIN:VCALENDAR
VERSION:2.0
PRODID:-//ChamberMaster//Event Calendar 2.0//EN
METHOD:PUBLISH
X-PUBLISHED-TTL:P3D
REFRESH-INTERVAL:P3D
CALSCALE:GREGORIAN
BEGIN:VEVENT
DTSTART:20210301T180000Z
DTEND:20210301T190000Z
X-MICROSOFT-CDO-ALLDAYEVENT:FALSE
SUMMARY:2021 Shot in the Dark Planning Committee Meeting
DESCRIPTION:2021 Shot in the Dark Planning Committee Meeting
X-ALT-DESC;FMTTYPE=text/html:2021 Shot in the Dark Planning Committee Meeting
LOCATION:The Chamber or ZOOM
UID:e.163.26261
SEQUENCE:3
DTSTAMP:20260424T192715Z
URL:https://business.angletonchamber.org/events/details/2021-shot-in-the-dark-planning-committee-meeting-26261
END:VEVENT

END:VCALENDAR
