BEGIN:VCALENDAR
VERSION:2.0
PRODID:-//ChamberMaster//Event Calendar 2.0//EN
METHOD:PUBLISH
X-PUBLISHED-TTL:P3D
REFRESH-INTERVAL:P3D
CALSCALE:GREGORIAN
BEGIN:VEVENT
DTSTART:20210330T170000Z
DTEND:20210330T180000Z
X-MICROSOFT-CDO-ALLDAYEVENT:FALSE
SUMMARY:2021 Shot in the Dark Planning Meeting Tuesday\, March 30th @ NOON
DESCRIPTION:
X-ALT-DESC;FMTTYPE=text/html:
LOCATION:The Chamber 222 N. Velasco
UID:e.163.26595
SEQUENCE:3
DTSTAMP:20260424T192743Z
URL:https://business.angletonchamber.org/events/details/2021-shot-in-the-dark-planning-meeting-tuesday-march-30th-noon-26595
END:VEVENT

END:VCALENDAR
