BEGIN:VCALENDAR
VERSION:2.0
PRODID:-//ChamberMaster//Event Calendar 2.0//EN
METHOD:PUBLISH
X-PUBLISHED-TTL:P3D
REFRESH-INTERVAL:P3D
CALSCALE:GREGORIAN
BEGIN:VEVENT
DTSTART:20081106T230000Z
DTEND:20081107T010000Z
X-MICROSOFT-CDO-ALLDAYEVENT:FALSE
SUMMARY:A Family Flower Shop and Keepsakes Mixer
DESCRIPTION:Afer hours mixer hosted by Diane Daugherty.1999 East Mulberry StreetAngleton
X-ALT-DESC;FMTTYPE=text/html:<div align="center">Afer hours mixer hosted by Diane Daugherty.</div><div align="center">1999 East Mulberry Street</div><div align="center">Angleton</div>
LOCATION:
UID:e.163.4447
SEQUENCE:3
DTSTAMP:20260420T200212Z
URL:https://business.angletonchamber.org/events/details/a-family-flower-shop-and-keepsakes-mixer-11-06-2008-4447
END:VEVENT

END:VCALENDAR
