BEGIN:VCALENDAR
VERSION:2.0
PRODID:-//ChamberMaster//Event Calendar 2.0//EN
METHOD:PUBLISH
X-PUBLISHED-TTL:P3D
REFRESH-INTERVAL:P3D
CALSCALE:GREGORIAN
BEGIN:VEVENT
DTSTART:20081204T230000Z
DTEND:20081205T010000Z
X-MICROSOFT-CDO-ALLDAYEVENT:FALSE
SUMMARY:After Hours Mixer-Prosperity Bank\, Neal Insurance Agency and Finley & Neal\, P. C
DESCRIPTION:
X-ALT-DESC;FMTTYPE=text/html:
LOCATION:Prosperity Bank116 South VelascoAngleton\, Texas 77515979-849-6404
UID:e.163.4492
SEQUENCE:3
DTSTAMP:20260420T183119Z
URL:https://business.angletonchamber.org/events/details/after-hours-mixer-prosperity-bank-neal-insurance-agency-and-finley-neal-p-c-12-04-2008-4492
END:VEVENT

END:VCALENDAR
