BEGIN:VCALENDAR
VERSION:2.0
PRODID:-//ChamberMaster//Event Calendar 2.0//EN
METHOD:PUBLISH
X-PUBLISHED-TTL:P3D
REFRESH-INTERVAL:P3D
CALSCALE:GREGORIAN
BEGIN:VEVENT
DTSTART:20210304T183000Z
DTEND:20210304T190000Z
X-MICROSOFT-CDO-ALLDAYEVENT:FALSE
SUMMARY:Ambassador Meeting for March
DESCRIPTION:
X-ALT-DESC;FMTTYPE=text/html:
LOCATION:YOUR HOME OR BUSINESS Virtually through ZOOM
UID:e.163.26256
SEQUENCE:3
DTSTAMP:20260424T192420Z
URL:https://business.angletonchamber.org/events/details/ambassador-meeting-for-march-26256
END:VEVENT

END:VCALENDAR
