BEGIN:VCALENDAR
VERSION:2.0
PRODID:-//ChamberMaster//Event Calendar 2.0//EN
METHOD:PUBLISH
X-PUBLISHED-TTL:P3D
REFRESH-INTERVAL:P3D
CALSCALE:GREGORIAN
BEGIN:VEVENT
DTSTART:20210506T170000Z
DTEND:20210506T180000Z
X-MICROSOFT-CDO-ALLDAYEVENT:FALSE
SUMMARY:Ambassador Meeting for May
DESCRIPTION:
X-ALT-DESC;FMTTYPE=text/html:
LOCATION:The Chamber 222 N. Velasco Angleton
UID:e.163.26601
SEQUENCE:3
DTSTAMP:20260424T172810Z
URL:https://business.angletonchamber.org/events/details/ambassador-meeting-for-may-26601
END:VEVENT

END:VCALENDAR
