BEGIN:VCALENDAR
VERSION:2.0
PRODID:-//ChamberMaster//Event Calendar 2.0//EN
METHOD:PUBLISH
X-PUBLISHED-TTL:P3D
REFRESH-INTERVAL:P3D
CALSCALE:GREGORIAN
BEGIN:VEVENT
DTSTART:20210501T140000Z
DTEND:20210501T200000Z
X-MICROSOFT-CDO-ALLDAYEVENT:FALSE
SUMMARY:Angleton Christian School Family Funfest
DESCRIPTION:FAMILY FUNFEST\n\n\n\nJoin Angleton Christian School on May 1st for our Family Fun Fest kicking off with a fun run at 9am followed by games and activities\, a vendor marketplace\, food trucks\, and a silent and live auction.\n\n\n\nwww.angletonchristian.org
X-ALT-DESC;FMTTYPE=text/html:FAMILY FUNFEST<br />\n<br />\nJoin Angleton Christian School on May 1st for our Family Fun Fest kicking off with a fun run at 9am followed by games and activities\, a vendor marketplace\, food trucks\, and a silent and live auction.<br />\n<br />\nwww.angletonchristian.org&nbsp\;
LOCATION:976 Anchor Rd Angleton
UID:e.163.26594
SEQUENCE:3
DTSTAMP:20260424T155701Z
URL:https://business.angletonchamber.org/events/details/angleton-christian-school-family-funfest-26594
END:VEVENT

END:VCALENDAR
