BEGIN:VCALENDAR
VERSION:2.0
PRODID:-//ChamberMaster//Event Calendar 2.0//EN
METHOD:PUBLISH
X-PUBLISHED-TTL:P3D
REFRESH-INTERVAL:P3D
CALSCALE:GREGORIAN
BEGIN:VEVENT
DTSTART:20090222T000000Z
DTEND:20090222T040000Z
X-MICROSOFT-CDO-ALLDAYEVENT:FALSE
SUMMARY:Angleton Rotary Club-Hot Times at Mardi Gras
DESCRIPTION:2009 Dinner and Auction Angleton Rotary Club\, District 5890Hot Times at Mardi GrasEvent Underwiter:The Dow Chemical Company-Tx Operations
X-ALT-DESC;FMTTYPE=text/html:<div align="center"><strong>2009 Dinner and Auction </strong></div><div align="center"><strong>Angleton Rotary Club\, District 5890</strong></div><div align="center"><strong>Hot Times at Mardi Gras</strong></div><div align="center"><strong>Event Underwiter:</strong></div><div align="center"><strong>The Dow Chemical Company-Tx Operations</strong></div><div>&nbsp\;</div>
LOCATION:Knight of Columbus Hall3213 East Mulberry (Hwy 35)Angleton\, Texas
UID:e.163.5275
SEQUENCE:3
DTSTAMP:20260420T151314Z
URL:https://business.angletonchamber.org/events/details/angleton-rotary-club-hot-times-at-mardi-gras-02-21-2009-5275
END:VEVENT

END:VCALENDAR
