BEGIN:VCALENDAR
VERSION:2.0
PRODID:-//ChamberMaster//Event Calendar 2.0//EN
METHOD:PUBLISH
X-PUBLISHED-TTL:P3D
REFRESH-INTERVAL:P3D
CALSCALE:GREGORIAN
BEGIN:VEVENT
DTSTART:20081113T230000Z
DTEND:20081114T010000Z
X-MICROSOFT-CDO-ALLDAYEVENT:FALSE
SUMMARY:Annual - Mixer After Hours at Angleton Flower Shop
DESCRIPTION:Members of the Greater Angleton Chamber are invited to attend the annual After Hours Mixer hosted by Angleton Flower & Gift Shop. The event will be spectacular as always! Door prizes\, refreshments & great shopping - don't miss the fun! Get in the the spirit of Holiday cheer!
X-ALT-DESC;FMTTYPE=text/html:<p>Members of the Greater Angleton&nbsp\;Chamber are invited to attend the annual After Hours Mixer hosted by Angleton Flower &amp\; Gift Shop. The event will be spectacular as always! Door prizes\, refreshments &amp\; great shopping - don't miss the fun! Get in the the spirit of Holiday cheer!</p>
LOCATION:Anlgeton Flower & Gift Shop505 North Velasco
UID:e.163.4360
SEQUENCE:3
DTSTAMP:20260420T195358Z
URL:https://business.angletonchamber.org/events/details/annual-mixer-after-hours-at-angleton-flower-shop-11-13-2008-4360
END:VEVENT

END:VCALENDAR
