BEGIN:VCALENDAR
VERSION:2.0
PRODID:-//ChamberMaster//Event Calendar 2.0//EN
METHOD:PUBLISH
X-PUBLISHED-TTL:P3D
REFRESH-INTERVAL:P3D
CALSCALE:GREGORIAN
BEGIN:VEVENT
DTSTART;VALUE=DATE:20100316
DTEND;VALUE=DATE:20100320
TRANSP:TRANSPARENT
X-MICROSOFT-CDO-ALLDAYEVENT:TRUE
SUMMARY:Anybody Home? The Critters of Varner-Hogg Plantation
DESCRIPTION:Come and take a peek at all the kinds of animals that call the plantation home.  Begin this one hour program by walking the grounds with staff as you learn about what animals live on the plantation.  If you?re lucky\, you might even see one or two!  Next\, come into the barn and design your own bird.  Decide if she lives in the water or in the grass\, needs a special beak or has unusual feet.  Build your bird with the beak and feet he needs to survive and give him a name.\n\n\n\nThis program will be offered at 10:00 am and 1:00 pm Tuesday through Friday\, March 16th ? 19th.  Cost is free with site entrance fee. Suggested ages 5-12.  An adult must be present with all children.\n\n\n\nTo reserve your spot please call (979) 345-4656 today.
X-ALT-DESC;FMTTYPE=text/html:Come and take a peek at all the kinds of animals that call the plantation home.  Begin this one hour program by walking the grounds with staff as you learn about what animals live on the plantation.  If you?re lucky\, you might even see one or two!  Next\, come into the barn and design your own bird.  Decide if she lives in the water or in the grass\, needs a special beak or has unusual feet.  Build your bird with the beak and feet he needs to survive and give him a name.\n<br>\n<br>This program will be offered at 10:00 am and 1:00 pm Tuesday through Friday\, March 16th ? 19th.  Cost is free with site entrance fee. Suggested ages 5-12.  An adult must be present with all children.\n<br>\n<br>To reserve your spot please call (979) 345-4656 today.\n<br>
LOCATION:Varner-Hogg Plantation S.H.S.\, West Columbia.
UID:e.163.6074
SEQUENCE:3
DTSTAMP:20260421T084410Z
URL:https://business.angletonchamber.org/events/details/anybody-home-the-critters-of-varner-hogg-plantation-03-16-2010-6074
END:VEVENT

END:VCALENDAR
