BEGIN:VCALENDAR
VERSION:2.0
PRODID:-//ChamberMaster//Event Calendar 2.0//EN
METHOD:PUBLISH
X-PUBLISHED-TTL:P3D
REFRESH-INTERVAL:P3D
CALSCALE:GREGORIAN
BEGIN:VEVENT
DTSTART:20230406T170000Z
DTEND:20230406T180000Z
X-MICROSOFT-CDO-ALLDAYEVENT:FALSE
SUMMARY:April Ambassador Meeting
DESCRIPTION:OUR SPRING HAS COME AT LAST WITH THE SOFT LAUGHTER OF APRIL                                          SUNS & A SHADOW OF APRIL SHOWERS\n\n\n\nI hope you can join us for our April Ambassador Meeting\, THIS Thursday\, April 6th at Noon!\n\nIt will be here at the Chamber or through Zoom.\n\n\n\nPlease RSVP by clicking on the "Register" button.\n\n\n\nHope to see you then if not before\,\n\n\n\nMichele
X-ALT-DESC;FMTTYPE=text/html:<strong><span style="font-size:16px\;">OUR SPRING HAS COME AT LAST WITH THE SOFT LAUGHTER OF APRIL&nbsp\; &nbsp\; &nbsp\; &nbsp\; &nbsp\; &nbsp\; &nbsp\; &nbsp\; &nbsp\; &nbsp\; &nbsp\; &nbsp\; &nbsp\; &nbsp\; &nbsp\; &nbsp\; &nbsp\; &nbsp\; &nbsp\; &nbsp\; &nbsp\; SUNS &amp\; A SHADOW OF APRIL SHOWERS</span><br />\n<br />\nI hope you can join us for our April Ambassador Meeting\, THIS Thursday\, April 6th at Noon!<br />\nIt will be here at the Chamber or through Zoom.<br />\n<br />\nPlease RSVP by clicking on the &quot\;Register&quot\; button.<br />\n<br />\nHope to see you then if not before\,<br />\n<br />\nMichele</strong>
LOCATION:The Chamber or Zoom
UID:e.163.27121
SEQUENCE:3
DTSTAMP:20260420T212055Z
URL:https://business.angletonchamber.org/events/details/april-ambassador-meeting-27121
END:VEVENT

END:VCALENDAR
