BEGIN:VCALENDAR
VERSION:2.0
PRODID:-//ChamberMaster//Event Calendar 2.0//EN
METHOD:PUBLISH
X-PUBLISHED-TTL:P3D
REFRESH-INTERVAL:P3D
CALSCALE:GREGORIAN
BEGIN:VEVENT
DTSTART:20210427T170000Z
DTEND:20210427T180000Z
X-MICROSOFT-CDO-ALLDAYEVENT:FALSE
SUMMARY:April Board of Directors Meeting
DESCRIPTION:Monthly Meeting of the Board of Directors
X-ALT-DESC;FMTTYPE=text/html:Monthly Meeting of the Board of Directors<br />\n&nbsp\;
LOCATION:The Chamber 222 N. Velasco Angleton\, TX 77515 or Virtually
UID:e.163.22031
SEQUENCE:3
DTSTAMP:20260425T102002Z
URL:https://business.angletonchamber.org/events/details/april-board-of-directors-meeting-22031
END:VEVENT

END:VCALENDAR
