BEGIN:VCALENDAR
VERSION:2.0
PRODID:-//ChamberMaster//Event Calendar 2.0//EN
METHOD:PUBLISH
X-PUBLISHED-TTL:P3D
REFRESH-INTERVAL:P3D
CALSCALE:GREGORIAN
BEGIN:VEVENT
DTSTART:20200806T170000Z
DTEND:20200806T180000Z
X-MICROSOFT-CDO-ALLDAYEVENT:FALSE
SUMMARY:August Ambassador Meeting
DESCRIPTION:Join us next Thursday\, Aug. 6\, 2020 at NOON for our August Ambassador "Zoom" Meeting - we will send you the zoom link after you register.\n\n\n\nDid you know Ambassadors are the movers and shakers of the community. Our most valuable resource\, the Ambassadors act as the public extension of the Chamber. Purely a volunteer club\, they are our members greatest resource as well. Active with ribbon cuttings\, grand openings\, and all events\, they are the people in the know and the insiders of everything going on in Angleton. Their wealth of knowledge and know-how are a benefit to everyone in the Angleton area. If you are active in the community\, consider joining the Ambassador club!\n\n\n\nPlease RSVP yes by clicking on the "Register Online" link and did you know if you can't make it you can click on the "Sorry\, I'm not able to attend" link and you will no longer receive this email.\n\n\n\nHope to see you then if not before\,\n\n\n\nMichele
X-ALT-DESC;FMTTYPE=text/html:<div><span style="color: rgb(85\, 85\, 85)\; font-family: Tahoma\, sans-serif\; font-size: 14.6667px\;">Join us next Thursday\, Aug. 6\, 2020 at NOON for our August Ambassador &quot\;Zoom&quot\; Meeting - we will send you the zoom link after you register.</span><br style="color: rgb(85\, 85\, 85)\; font-family: Tahoma\, sans-serif\; font-size: 14.6667px\;" />\n<br style="color: rgb(85\, 85\, 85)\; font-family: Tahoma\, sans-serif\; font-size: 14.6667px\;" />\n<span style="color: rgb(85\, 85\, 85)\; font-family: Tahoma\, sans-serif\; font-size: 14.6667px\;">Did you know Ambassadors are the movers and shakers of the community. Our most valuable resource\, the Ambassadors act as the public extension of the Chamber. Purely a volunteer club\, they are our members greatest resource as well. Active with ribbon cuttings\, grand openings\, and all events\, they are the people in the know and the insiders of everything going on in Angleton. Their wealth of knowledge and know-how are a benefit to everyone in the Angleton area. If you are active in the community\, consider joining the Ambassador club!</span><br style="color: rgb(85\, 85\, 85)\; font-family: Tahoma\, sans-serif\; font-size: 14.6667px\;" />\n<br style="color: rgb(85\, 85\, 85)\; font-family: Tahoma\, sans-serif\; font-size: 14.6667px\;" />\n<span style="color: rgb(85\, 85\, 85)\; font-family: Tahoma\, sans-serif\; font-size: 14.6667px\;">Please RSVP yes by clicking on the &quot\;Register Online&quot\; link and did you know if you can&#39\;t make it you can click on the &quot\;Sorry\, I&#39\;m not able to attend&quot\; link and you will no longer receive this email.</span><br style="color: rgb(85\, 85\, 85)\; font-family: Tahoma\, sans-serif\; font-size: 14.6667px\;" />\n<br style="color: rgb(85\, 85\, 85)\; font-family: Tahoma\, sans-serif\; font-size: 14.6667px\;" />\n<span style="color: rgb(85\, 85\, 85)\; font-family: Tahoma\, sans-serif\; font-size: 14.6667px\;">Hope to see you then if not before\,</span><br style="color: rgb(85\, 85\, 85)\; font-family: Tahoma\, sans-serif\; font-size: 14.6667px\;" />\n<br style="color: rgb(85\, 85\, 85)\; font-family: Tahoma\, sans-serif\; font-size: 14.6667px\;" />\n<span style="color: rgb(85\, 85\, 85)\; font-family: Tahoma\, sans-serif\; font-size: 14.6667px\;">Michele</span><br style="color: rgb(85\, 85\, 85)\; font-family: Tahoma\, sans-serif\; font-size: 14.6667px\;" />\n<span style="color: rgb(85\, 85\, 85)\; font-family: Tahoma\, sans-serif\; font-size: 14.6667px\;">&nbsp\;</span></div>\n
LOCATION:YOUR HOME OR OFFICE
UID:e.163.5969
SEQUENCE:3
DTSTAMP:20260424T221431Z
URL:https://business.angletonchamber.org/events/details/august-ambassador-meeting-5969
END:VEVENT

END:VCALENDAR
