BEGIN:VCALENDAR
VERSION:2.0
PRODID:-//ChamberMaster//Event Calendar 2.0//EN
METHOD:PUBLISH
X-PUBLISHED-TTL:P3D
REFRESH-INTERVAL:P3D
CALSCALE:GREGORIAN
BEGIN:VEVENT
DTSTART;VALUE=DATE:20090307
DTEND;VALUE=DATE:20090308
TRANSP:TRANSPARENT
X-MICROSOFT-CDO-ALLDAYEVENT:TRUE
SUMMARY:B.I.G. Love Cancer Care Fun Run Walk and More
DESCRIPTION:Kiddy run\, Kids 1 mile\, Family 3.1 mile run/walk plus BBQ plates sold at 11:00  There will also be festival type fun: moonwalks\, face painting\, craft booths and more.  All profits go to Cancer children and their families at Texas Children's Hospital through meals\, parking\, hotel room help\, basket of goodies\, toys for the children and so much more.  B.I.G. Love is completely non-profit.
X-ALT-DESC;FMTTYPE=text/html:Kiddy run\, Kids 1 mile\, Family 3.1 mile run/walk plus BBQ plates sold at 11:00  There will also be festival type fun: moonwalks\, face painting\, craft booths and more.  All profits go to Cancer children and their families at Texas Children's Hospital through meals\, parking\, hotel room help\, basket of goodies\, toys for the children and so much more.  B.I.G. Love is completely non-profit.
LOCATION:Bates Park\, Angleton
UID:e.163.4453
SEQUENCE:3
DTSTAMP:20260420T132743Z
URL:https://business.angletonchamber.org/events/details/b-i-g-love-cancer-care-fun-run-walk-and-more-03-07-2009-4453
END:VEVENT

END:VCALENDAR
