BEGIN:VCALENDAR
VERSION:2.0
PRODID:-//ChamberMaster//Event Calendar 2.0//EN
METHOD:PUBLISH
X-PUBLISHED-TTL:P3D
REFRESH-INTERVAL:P3D
CALSCALE:GREGORIAN
BEGIN:VEVENT
DTSTART:20210126T180000Z
DTEND:20210126T190000Z
X-MICROSOFT-CDO-ALLDAYEVENT:FALSE
SUMMARY:Board Meeting - Hybrid
DESCRIPTION:Monthly Meeting of the Board of Directors\n\nFourth Tuesday of each month excluding July\, November and December.\n\n(Date subject to change.)
X-ALT-DESC;FMTTYPE=text/html:Monthly Meeting of the Board of Directors<br />\nFourth Tuesday of each month excluding July\, November and December.<br />\n(Date subject to change.)
LOCATION:The Chamber or ZOOM ** Please put in the comments if you will be attending in-person or through ZOOM
UID:e.163.22028
SEQUENCE:3
DTSTAMP:20260424T221513Z
URL:https://business.angletonchamber.org/events/details/board-meeting-hybrid-22028
END:VEVENT

END:VCALENDAR
