BEGIN:VCALENDAR
VERSION:2.0
PRODID:-//ChamberMaster//Event Calendar 2.0//EN
METHOD:PUBLISH
X-PUBLISHED-TTL:P3D
REFRESH-INTERVAL:P3D
CALSCALE:GREGORIAN
BEGIN:VEVENT
DTSTART;VALUE=DATE:20080913
DTEND;VALUE=DATE:20080914
TRANSP:TRANSPARENT
X-MICROSOFT-CDO-ALLDAYEVENT:TRUE
SUMMARY:Brazoria County Alliance for Children - 3rd Annual Hope & Healing Fundraiser
DESCRIPTION:3rd Annual Hope & Healing FundraiserBBQ - Auction - Dance Thank you for helping heal the young victims of abuse & neglect.
X-ALT-DESC;FMTTYPE=text/html:<div>3rd Annual Hope &amp\; Healing Fundraiser</div><div>BBQ - Auction - Dance</div><div>&nbsp\;</div><div>Thank you for helping heal the young victims of abuse &amp\; neglect.</div>
LOCATION:Brazoria County Fair GroundsAngleton\, Texas
UID:e.163.4172
SEQUENCE:3
DTSTAMP:20260420T232730Z
URL:https://business.angletonchamber.org/events/details/brazoria-county-alliance-for-children-3rd-annual-hope-healing-fundraiser-09-13-2008-4172
END:VEVENT

END:VCALENDAR
