BEGIN:VCALENDAR
VERSION:2.0
PRODID:-//ChamberMaster//Event Calendar 2.0//EN
METHOD:PUBLISH
X-PUBLISHED-TTL:P3D
REFRESH-INTERVAL:P3D
CALSCALE:GREGORIAN
BEGIN:VEVENT
DTSTART;VALUE=DATE:20080918
DTEND;VALUE=DATE:20080919
TRANSP:TRANSPARENT
X-MICROSOFT-CDO-ALLDAYEVENT:TRUE
SUMMARY:Brazoria County Business Hall of Fame
DESCRIPTION:Scholarships awarded\, Volunteer and Teacher of the Year\, plus four great business entrepreneurs will be inducted into the Brazoria County Business Hall of Fame.
X-ALT-DESC;FMTTYPE=text/html:<div>Scholarships awarded\, Volunteer and Teacher of the Year\, plus four great business entrepreneurs will be inducted into the Brazoria County Business Hall of Fame.</div>
LOCATION:Lake Jackson Civic Center
UID:e.163.4178
SEQUENCE:3
DTSTAMP:20260420T232252Z
URL:https://business.angletonchamber.org/events/details/brazoria-county-business-hall-of-fame-09-18-2008-4178
END:VEVENT

END:VCALENDAR
