BEGIN:VCALENDAR
VERSION:2.0
PRODID:-//ChamberMaster//Event Calendar 2.0//EN
METHOD:PUBLISH
X-PUBLISHED-TTL:P3D
REFRESH-INTERVAL:P3D
CALSCALE:GREGORIAN
BEGIN:VEVENT
DTSTART:20090128T010000Z
DTEND:20090128T030000Z
X-MICROSOFT-CDO-ALLDAYEVENT:FALSE
SUMMARY:BRAZOSPORT PLANETARIUM ?DELIGHTS OF ORION?
DESCRIPTION:Visible from every place on Earth\, Orion dominates the January sky with its clear pattern and bright stars. Hear timeless stories about this constellation\, explore the science and experience its beauty in the winter sky."
X-ALT-DESC;FMTTYPE=text/html:<p class="MsoNormal" style="margin: 0in 0in 0pt\; text-align: center" align="center"><strong style="mso-bidi-font-weight: normal"><font size="3"><font face="Times New Roman">Visible from every place on Earth\, Orion dominates the January sky with its clear pattern and bright stars. Hear timeless stories about this constellation\, explore the science and experience its beauty in the winter sky.&rdquo\;<o:p></o:p></font></font></strong></p>
LOCATION:The Brazosport Planetarium 400 College Blvd.\,Clute\, TX
UID:e.163.5223
SEQUENCE:3
DTSTAMP:20260420T170035Z
URL:https://business.angletonchamber.org/events/details/brazosport-planetarium-delights-of-orion-01-27-2009-5223
END:VEVENT

END:VCALENDAR
