BEGIN:VCALENDAR
VERSION:2.0
PRODID:-//ChamberMaster//Event Calendar 2.0//EN
METHOD:PUBLISH
X-PUBLISHED-TTL:P3D
REFRESH-INTERVAL:P3D
CALSCALE:GREGORIAN
BEGIN:VEVENT
DTSTART:20081203T010000Z
DTEND:20081202T180000Z
X-MICROSOFT-CDO-ALLDAYEVENT:FALSE
SUMMARY:Brazosport Planetarium Schedule ''Season of Light''
DESCRIPTION:The coldest and darkest nights of the season hold some of the warmest and brightest celebrations of the year. Share them and look into some theories about the Christmas star.
X-ALT-DESC;FMTTYPE=text/html:<p class="MsoNormal" style="margin: 0in 0in 0pt\; text-align: center" align="center"><strong style="mso-bidi-font-weight: normal"><font size="3"><font face="Times New Roman">The coldest and darkest nights of the season hold some of the warmest and brightest celebrations of the year. Share them and look into some theories about the Christmas star.<o:p></o:p></font></font></strong></p>
LOCATION:The Brazosport Planetarium 400 College Blvd.\,Clute\, TXThe Center for the Arts & Sciences
UID:e.163.4954
SEQUENCE:3
DTSTAMP:20260420T182612Z
URL:https://business.angletonchamber.org/events/details/brazosport-planetarium-schedule-season-of-light-12-02-2008-4954
END:VEVENT

END:VCALENDAR
