BEGIN:VCALENDAR
VERSION:2.0
PRODID:-//ChamberMaster//Event Calendar 2.0//EN
METHOD:PUBLISH
X-PUBLISHED-TTL:P3D
REFRESH-INTERVAL:P3D
CALSCALE:GREGORIAN
BEGIN:VEVENT
DTSTART:20201107T230000Z
DTEND:20201108T030000Z
X-MICROSOFT-CDO-ALLDAYEVENT:FALSE
SUMMARY:Brew on the Bayou
DESCRIPTION:Join the Gulf Coast Bird Observatory for our third annual Brew on the Bayou here in Lake Jackson. Come sample and enjoy specialty brews from local breweries as well as wines. Listen to live music\, watch a live raptor show\, grab a bite to eat from local food trucks and check out some hot items at our silent auction. Our beautiful wooded grounds will be lit by torchlight making it a perfect spot to enjoy the brews\, the food and the music!
X-ALT-DESC;FMTTYPE=text/html:Join the Gulf Coast Bird Observatory for our third annual Brew on the Bayou here in Lake Jackson. Come sample and enjoy specialty brews from local breweries as well as wines. Listen to live music\, watch a live raptor show\, grab a bite to eat from local food trucks and check out some hot items at our silent auction. Our beautiful wooded grounds will be lit by torchlight making it a perfect spot to enjoy the brews\, the food and the music!
LOCATION:Gulf Coast Bird Observatory\, 299 Highway 332 West\, Lake Jackson TX 77566
UID:e.163.23386
SEQUENCE:3
DTSTAMP:20260424T204628Z
URL:https://business.angletonchamber.org/events/details/brew-on-the-bayou-23386
END:VEVENT

END:VCALENDAR
