BEGIN:VCALENDAR
VERSION:2.0
PRODID:-//ChamberMaster//Event Calendar 2.0//EN
METHOD:PUBLISH
X-PUBLISHED-TTL:P3D
REFRESH-INTERVAL:P3D
CALSCALE:GREGORIAN
BEGIN:VEVENT
DTSTART;VALUE=DATE:20231222
DTEND;VALUE=DATE:20231227
TRANSP:TRANSPARENT
X-MICROSOFT-CDO-ALLDAYEVENT:TRUE
SUMMARY:Chamber Office Closed - Christmas Holiday
DESCRIPTION:Chamber office closed in observance of Christmas. We will return Tuesday\, Jan. 2\, 2024 at\, 9 am.
X-ALT-DESC;FMTTYPE=text/html:Chamber office closed in observance of Christmas. We will return Tuesday\, Jan. 2\, 2024 at\, 9 am.
LOCATION:
UID:e.163.27073
SEQUENCE:3
DTSTAMP:20260420T161708Z
URL:https://business.angletonchamber.org/events/details/chamber-office-closed-christmas-holiday-27073
END:VEVENT

END:VCALENDAR
