BEGIN:VCALENDAR
VERSION:2.0
PRODID:-//ChamberMaster//Event Calendar 2.0//EN
METHOD:PUBLISH
X-PUBLISHED-TTL:P3D
REFRESH-INTERVAL:P3D
CALSCALE:GREGORIAN
BEGIN:VEVENT
DTSTART;VALUE=DATE:20230407
DTEND;VALUE=DATE:20230411
TRANSP:TRANSPARENT
X-MICROSOFT-CDO-ALLDAYEVENT:TRUE
SUMMARY:Chamber Office Closed - Good Friday
DESCRIPTION:Chamber office closed in observance of Good Friday. We will return Tuesday\, April 11th\, at 9 am.
X-ALT-DESC;FMTTYPE=text/html:Chamber office closed in observance of Good Friday. We will return Tuesday\, April 11th\, at 9 am.
LOCATION:
UID:e.163.27066
SEQUENCE:3
DTSTAMP:20260425T162614Z
URL:https://business.angletonchamber.org/events/details/chamber-office-closed-good-friday-27066
END:VEVENT

END:VCALENDAR
