BEGIN:VCALENDAR
VERSION:2.0
PRODID:-//ChamberMaster//Event Calendar 2.0//EN
METHOD:PUBLISH
X-PUBLISHED-TTL:P3D
REFRESH-INTERVAL:P3D
CALSCALE:GREGORIAN
BEGIN:VEVENT
DTSTART;VALUE=DATE:20230421
DTEND;VALUE=DATE:20230422
TRANSP:TRANSPARENT
X-MICROSOFT-CDO-ALLDAYEVENT:TRUE
SUMMARY:Chamber Office Closed - San Jacinto Day
DESCRIPTION:Chamber office closed in observance of San Jacinto Day. We will return Monday\, April 24th\, at 9 am
X-ALT-DESC;FMTTYPE=text/html:Chamber office closed in observance of San Jacinto Day. We will return Monday\, April 24th\, at 9 am
LOCATION:
UID:e.163.27067
SEQUENCE:3
DTSTAMP:20260425T144221Z
URL:https://business.angletonchamber.org/events/details/chamber-office-closed-san-jacinto-day-27067
END:VEVENT

END:VCALENDAR
