BEGIN:VCALENDAR
VERSION:2.0
PRODID:-//ChamberMaster//Event Calendar 2.0//EN
METHOD:PUBLISH
X-PUBLISHED-TTL:P3D
REFRESH-INTERVAL:P3D
CALSCALE:GREGORIAN
BEGIN:VEVENT
DTSTART;VALUE=DATE:20231110
DTEND;VALUE=DATE:20231111
TRANSP:TRANSPARENT
X-MICROSOFT-CDO-ALLDAYEVENT:TRUE
SUMMARY:Chamber Office Closed - Veterans Day
DESCRIPTION:Chamber office closed in observance of Veteran's Day. We will return Monday\, November 13th\, at 9am.
X-ALT-DESC;FMTTYPE=text/html:Chamber office closed in observance of Veteran&#39\;s Day. We will return Monday\, November 13th\, at 9am.&nbsp\;
LOCATION:
UID:e.163.27071
SEQUENCE:3
DTSTAMP:20260421T083554Z
URL:https://business.angletonchamber.org/events/details/chamber-office-closed-veterans-day-27071
END:VEVENT

END:VCALENDAR
