BEGIN:VCALENDAR
VERSION:2.0
PRODID:-//ChamberMaster//Event Calendar 2.0//EN
METHOD:PUBLISH
X-PUBLISHED-TTL:P3D
REFRESH-INTERVAL:P3D
CALSCALE:GREGORIAN
BEGIN:VEVENT
DTSTART;VALUE=DATE:20080620
DTEND;VALUE=DATE:20081101
TRANSP:TRANSPARENT
X-MICROSOFT-CDO-ALLDAYEVENT:TRUE
SUMMARY:Collecting for Military Moms and Wives of Brazoria County
DESCRIPTION:Collecting $10.95 for shipping of packages and receive a free gift from A Family Flower Shop and Keepsakes.  Lets help them for a good cause.  Also if you have anything you want to drop off for the packages\, it would  be greatly appreciated.  You can also give us an address of a solider in Afghanistan or Iraq and we will forward to the Military Moms and Wives of Brazoria County.  Thank you for your help in advance.
X-ALT-DESC;FMTTYPE=text/html:Collecting $10.95 for shipping of packages and receive a free gift from A Family Flower Shop and Keepsakes.  Lets help them for a good cause.  Also if you have anything you want to drop off for the packages\, it would  be greatly appreciated.  You can also give us an address of a solider in Afghanistan or Iraq and we will forward to the Military Moms and Wives of Brazoria County.  Thank you for your help in advance. 
LOCATION:1999 E. Mulberry St. Angelton
UID:e.163.4294
SEQUENCE:3
DTSTAMP:20260420T212954Z
URL:https://business.angletonchamber.org/events/details/collecting-for-military-moms-and-wives-of-brazoria-county-06-20-2008-4294
END:VEVENT

END:VCALENDAR
