BEGIN:VCALENDAR
VERSION:2.0
PRODID:-//ChamberMaster//Event Calendar 2.0//EN
METHOD:PUBLISH
X-PUBLISHED-TTL:P3D
REFRESH-INTERVAL:P3D
CALSCALE:GREGORIAN
BEGIN:VEVENT
DTSTART;VALUE=DATE:20230401
DTEND;VALUE=DATE:20230402
TRANSP:TRANSPARENT
X-MICROSOFT-CDO-ALLDAYEVENT:TRUE
SUMMARY:Easter Ball Drop Hunt
DESCRIPTION:
X-ALT-DESC;FMTTYPE=text/html:
LOCATION:Mulligan's Golf Center 855 County Road 340 Angleton\, TX 77515
UID:e.163.27116
SEQUENCE:3
DTSTAMP:20260425T143957Z
URL:https://business.angletonchamber.org/events/details/easter-ball-drop-hunt-27116
END:VEVENT

END:VCALENDAR
