BEGIN:VCALENDAR
VERSION:2.0
PRODID:-//ChamberMaster//Event Calendar 2.0//EN
METHOD:PUBLISH
X-PUBLISHED-TTL:P3D
REFRESH-INTERVAL:P3D
CALSCALE:GREGORIAN
BEGIN:VEVENT
DTSTART:20081207T003000Z
DTEND:20081207T030000Z
X-MICROSOFT-CDO-ALLDAYEVENT:FALSE
SUMMARY:Exchange Club\,Nash 3 Christmas Concert
DESCRIPTION:
X-ALT-DESC;FMTTYPE=text/html:
LOCATION:Frontier Baptist Church
UID:e.163.4489
SEQUENCE:3
DTSTAMP:20260420T182403Z
URL:https://business.angletonchamber.org/events/details/exchange-club-nash-3-christmas-concert-12-06-2008-4489
END:VEVENT

END:VCALENDAR
