BEGIN:VCALENDAR
VERSION:2.0
PRODID:-//ChamberMaster//Event Calendar 2.0//EN
METHOD:PUBLISH
X-PUBLISHED-TTL:P3D
REFRESH-INTERVAL:P3D
CALSCALE:GREGORIAN
BEGIN:VEVENT
DTSTART:20090306T230000Z
DTEND:20090307T010000Z
X-MICROSOFT-CDO-ALLDAYEVENT:FALSE
SUMMARY:Holy Comforter Episcopal Church Lenten Fish Fry Fridays
DESCRIPTION:Fish Fry - dine in or carry out Fish\, Fries\, Beans\, Hushpuppies\, Ice Tea $7.50 donation Tickets available from any parish member\, at the church office or at the door
X-ALT-DESC;FMTTYPE=text/html:<div style="margin: 0in 0in 0pt"><font color="#000080" size="2"><span style="font-size: 10pt\; color: navy">Fish Fry - dine in or carry out</span></font></div><div style="margin: 0in 0in 0pt"><font color="#000080" size="2">&nbsp\;</font></div><div style="margin: 0in 0in 0pt"><font color="#000080" size="2"><span style="font-size: 10pt\; color: navy">Fish\, Fries\, Beans\, Hushpuppies\, Ice Tea</span></font></div><div style="margin: 0in 0in 0pt"><font color="#000080" size="2">&nbsp\;</font></div><div style="margin: 0in 0in 0pt"><font color="#000080" size="2"><span style="font-size: 10pt\; color: navy">$7.50 donation</span></font></div><div style="margin: 0in 0in 0pt"><font color="#000080" size="2">&nbsp\;</font></div><div style="margin: 0in 0in 0pt"><font color="#000080" size="2"><span style="font-size: 10pt\; color: navy">Tickets available from any parish member\, at the church office or at the door</span></font></div>
LOCATION:227 S. ChenangoAngleton\, Texas
UID:e.163.5321
SEQUENCE:3
DTSTAMP:20260420T132926Z
URL:https://business.angletonchamber.org/events/details/holy-comforter-episcopal-church-lenten-fish-fry-fridays-03-06-2009-5321
END:VEVENT

END:VCALENDAR
