BEGIN:VCALENDAR
VERSION:2.0
PRODID:-//ChamberMaster//Event Calendar 2.0//EN
METHOD:PUBLISH
X-PUBLISHED-TTL:P3D
REFRESH-INTERVAL:P3D
CALSCALE:GREGORIAN
BEGIN:VEVENT
DTSTART:20220817T170000Z
DTEND:20220817T180000Z
X-MICROSOFT-CDO-ALLDAYEVENT:FALSE
SUMMARY:Leadership Angleton 2023 Planning Meeting
DESCRIPTION:Pizza & Planning for Leadership Angleton 2023!!\n\n\n\nGood Morning Leadership Alumi  3 \n\n\n\nCan you believe it's almost time for our next Leadership Class - Leadership 2023!!\n\n\n\nI hope you can join us\, Wednesday\, Aug. 17\, 2022 at NOON for our next planning meeting here at The Chamber or through ZOOM!\n\n\n\nTOPICS OF DISCUSSION:\n\nSOIREE   9/1/22\n\nRETREAT    9/15-16\,22\n\nSESSIONS\n\nNOMINEES \n\n\n\nHope to see you here!\n\n\n\nThank you\,\n\n\n\nMichele
X-ALT-DESC;FMTTYPE=text/html:<span style="font-size:16px\;"><strong>Pizza &amp\; Planning for Leadership Angleton 2023!!</strong></span><br />\n<br />\n<span style="font-size:14px\;">Good Morning Leadership Alumi &lt\;3&nbsp\;</span><br />\n<br />\n<span style="font-size:14px\;">Can you believe it&#39\;s almost time for our next Leadership Class - Leadership 2023!!<br />\n<br />\nI hope you can join us\, Wednesday\, Aug. 17\, 2022 at NOON for our next planning meeting here at The Chamber or through ZOOM!<br />\n<br />\nTOPICS OF DISCUSSION:</span><br />\nSOIREE&nbsp\; &nbsp\;9/1/22<br />\nRETREAT&nbsp\; &nbsp\; 9/15-16\,22<br />\nSESSIONS<br />\nNOMINEES&nbsp\;<br />\n<br />\n<span style="font-size:14px\;">Hope to see you here!<br />\n<br />\nThank you\,<br />\n<br />\nMichele</span><br />\n&nbsp\;
LOCATION:The Chamber or Zoom 222 N. Velasco Angleton
UID:e.163.26938
SEQUENCE:3
DTSTAMP:20260421T101445Z
URL:https://business.angletonchamber.org/events/details/leadership-angleton-2023-planning-meeting-26938
END:VEVENT

END:VCALENDAR
