BEGIN:VCALENDAR
VERSION:2.0
PRODID:-//ChamberMaster//Event Calendar 2.0//EN
METHOD:PUBLISH
X-PUBLISHED-TTL:P3D
REFRESH-INTERVAL:P3D
CALSCALE:GREGORIAN
BEGIN:VEVENT
DTSTART:20230511T170000Z
DTEND:20230511T180000Z
X-MICROSOFT-CDO-ALLDAYEVENT:FALSE
SUMMARY:May Ambassador Meeting
DESCRIPTION:WELCOME TO MAY.......THE MONTH OF MAYBES!!\n\n\n\nI hope you can join us Thursday\, May 11\, 2023 for our May Ambassador Meeting at NOON - at The Chamber or through Zoom!!\n\n\n\nPlease RSVP by clicking on the "Register" link!\n\n\n\n(The date change is due to National Day of Prayer is THIS Thursday\, May 4th - there are 2 scheduled in Angleton - Veteran's Park  115 E. Magnolia & Life Four Square Church 501 Karankawa St.) both starting at NOON
X-ALT-DESC;FMTTYPE=text/html:<span style="font-size: 16px\;"><b>WELCOME TO MAY.......THE MONTH OF MAYBES!!</b></span><br />\n<br />\n<span style="font-size: 14px\;">I hope you can join us Thursday\, May 11\, 2023 for our May Ambassador Meeting at NOON - at The Chamber or through Zoom!!<br />\n<br />\nPlease RSVP by clicking on the &quot\;Register&quot\; link!<br />\n<br />\n(The date change is due to <strong><u>National Day of Prayer</u></strong> is THIS Thursday\, May 4th - there are 2 scheduled in Angleton - Veteran&#39\;s Park&nbsp\; 115 E. Magnolia &amp\; Life Four Square Church 501 Karankawa St.) both starting at NOON</span>
LOCATION:The Chamber or Zoom 222 N. Velasco Angleton
UID:e.163.27142
SEQUENCE:3
DTSTAMP:20260425T144201Z
URL:https://business.angletonchamber.org/events/details/may-ambassador-meeting-27142
END:VEVENT

END:VCALENDAR
