BEGIN:VCALENDAR
VERSION:2.0
PRODID:-//ChamberMaster//Event Calendar 2.0//EN
METHOD:PUBLISH
X-PUBLISHED-TTL:P3D
REFRESH-INTERVAL:P3D
CALSCALE:GREGORIAN
BEGIN:VEVENT
DTSTART:20230504T164500Z
DTEND:20230504T180000Z
X-MICROSOFT-CDO-ALLDAYEVENT:FALSE
SUMMARY:National Day of Prayer
DESCRIPTION:
X-ALT-DESC;FMTTYPE=text/html:
LOCATION:Veteran's Memorial Park 115 E. Magnolia Angleton
UID:e.163.27145
SEQUENCE:3
DTSTAMP:20260425T144345Z
URL:https://business.angletonchamber.org/events/details/national-day-of-prayer-27145
END:VEVENT

END:VCALENDAR
