BEGIN:VCALENDAR
VERSION:2.0
PRODID:-//ChamberMaster//Event Calendar 2.0//EN
METHOD:PUBLISH
X-PUBLISHED-TTL:P3D
REFRESH-INTERVAL:P3D
CALSCALE:GREGORIAN
BEGIN:VEVENT
DTSTART:20070510T163000Z
DTEND:20070510T180000Z
X-MICROSOFT-CDO-ALLDAYEVENT:FALSE
SUMMARY:Network Luncheon
DESCRIPTION:Attended by business owners and representatives alike\, our monthly network luncheon is one of the many  networking opportunities the Chamber offers its members.  Our program this month will be presented by the Angleton Recreation Center and lunch will be gourmet hamburgers and hotdogs with all the trimmings from Trails End - Wild Game Gourmet.\n\nCome Join Us!
X-ALT-DESC;FMTTYPE=text/html:<p align="justify">Attended by business owners and representatives alike\, our monthly network luncheon&nbsp\;is one of the many&nbsp\;&nbsp\;networking opportunities the Chamber offers its members.&nbsp\; Our program this month will be presented by the Angleton Recreation Center and lunch will be gourmet hamburgers and hotdogs with all the trimmings from Trails End - Wild Game Gourmet.<br /><br />Come Join Us!<br /></p>
LOCATION:Angleton Recreation Center 1601 N. Valderas Angleton
UID:e.163.1321
SEQUENCE:3
DTSTAMP:20260420T101533Z
URL:https://business.angletonchamber.org/events/details/network-luncheon-05-10-2007-1321
END:VEVENT

END:VCALENDAR
