BEGIN:VCALENDAR
VERSION:2.0
PRODID:-//ChamberMaster//Event Calendar 2.0//EN
METHOD:PUBLISH
X-PUBLISHED-TTL:P3D
REFRESH-INTERVAL:P3D
CALSCALE:GREGORIAN
BEGIN:VEVENT
DTSTART:20201104T173000Z
DTEND:20201104T190000Z
X-MICROSOFT-CDO-ALLDAYEVENT:FALSE
SUMMARY:One Nation Under God Luncheon presented by The Exchange Club of Angleton
DESCRIPTION:One Nation Under God Luncheon\n\nPresented by The Exchange Club of Angleton
X-ALT-DESC;FMTTYPE=text/html:One Nation Under God Luncheon<br />\nPresented by The Exchange Club of Angleton
LOCATION:Brazoria County Fairground Banquet Hall 901 Downing Rd. Angleton
UID:e.163.25878
SEQUENCE:3
DTSTAMP:20260424T210751Z
URL:https://business.angletonchamber.org/events/details/one-nation-under-god-luncheon-presented-by-the-exchange-club-of-angleton-25878
END:VEVENT

END:VCALENDAR
