BEGIN:VCALENDAR
VERSION:2.0
PRODID:-//ChamberMaster//Event Calendar 2.0//EN
METHOD:PUBLISH
X-PUBLISHED-TTL:P3D
REFRESH-INTERVAL:P3D
CALSCALE:GREGORIAN
BEGIN:VEVENT
DTSTART:20201023T163000Z
DTEND:20201024T000000Z
X-MICROSOFT-CDO-ALLDAYEVENT:FALSE
SUMMARY:Our Lady Queen of Peace Home & School Golf Tournament
DESCRIPTION:1st Annual Golf Tournament to help raise funds to support the needs of Our Lady Queen of Peace Catholic School. 2 Man Scramble with Tee Time start. Winners will be announced on OLQP website and Facebook page. Open to the first 72 teams.
X-ALT-DESC;FMTTYPE=text/html:1st Annual Golf Tournament to help raise funds to support the needs of Our Lady Queen of Peace Catholic School. 2 Man Scramble with Tee Time start. Winners will be announced on OLQP website and Facebook page. Open to the first 72 teams.
LOCATION:The Wilderness Golf Course\, Lake Jackson\, Texas
UID:e.163.25914
SEQUENCE:3
DTSTAMP:20260424T200142Z
URL:https://business.angletonchamber.org/events/details/our-lady-queen-of-peace-home-school-golf-tournament-25914
END:VEVENT

END:VCALENDAR
