BEGIN:VCALENDAR
VERSION:2.0
PRODID:-//ChamberMaster//Event Calendar 2.0//EN
METHOD:PUBLISH
X-PUBLISHED-TTL:P3D
REFRESH-INTERVAL:P3D
CALSCALE:GREGORIAN
BEGIN:VEVENT
DTSTART:20230401T160000Z
DTEND:20230401T190000Z
X-MICROSOFT-CDO-ALLDAYEVENT:FALSE
SUMMARY:PETTING ZOO PALOOZA
DESCRIPTION:Make your way to Windrose Green for a free family-friendly event. Windrose Green is kicking spring off with fun for everyone at our Model Home Park. Enjoy delicious food\, fun activities\, explore new onsite amenities and tour four new model homes in our 156-acre new home community in Angleton\, TX. Food Trucks and Ice cream Petting Zoo | Face Painting | Bounce House Balloon Twister New Splashpad Amenity Opening
X-ALT-DESC;FMTTYPE=text/html:Make your way to Windrose Green for a free family-friendly event. Windrose Green is kicking spring off with fun for everyone at our Model Home Park. Enjoy delicious food\, fun activities\, explore new onsite amenities and tour four new model homes in our 156-acre new home community in Angleton\, TX. Food Trucks and Ice cream Petting Zoo | Face Painting | Bounce House Balloon Twister New Splashpad Amenity Opening
LOCATION:1902 Parks Edge Lane\, Angleton\, Tx
UID:e.163.27123
SEQUENCE:3
DTSTAMP:20260425T144222Z
URL:https://business.angletonchamber.org/events/details/petting-zoo-palooza-27123
END:VEVENT

END:VCALENDAR
