BEGIN:VCALENDAR
VERSION:2.0
PRODID:-//ChamberMaster//Event Calendar 2.0//EN
METHOD:PUBLISH
X-PUBLISHED-TTL:P3D
REFRESH-INTERVAL:P3D
CALSCALE:GREGORIAN
BEGIN:VEVENT
DTSTART:20260501T150000Z
DTEND:20260501T160000Z
X-MICROSOFT-CDO-ALLDAYEVENT:FALSE
SUMMARY:Ribbon Cutting for Salty Pelican
DESCRIPTION:
X-ALT-DESC;FMTTYPE=text/html:
LOCATION:403 E. Hwy 332 Surfside Beach\, Tx
UID:e.163.28156
SEQUENCE:3
DTSTAMP:20260424T013548Z
URL:https://business.angletonchamber.org/events/details/ribbon-cutting-for-salty-pelican-28156
END:VEVENT

END:VCALENDAR
