BEGIN:VCALENDAR
VERSION:2.0
PRODID:-//ChamberMaster//Event Calendar 2.0//EN
METHOD:PUBLISH
X-PUBLISHED-TTL:P3D
REFRESH-INTERVAL:P3D
CALSCALE:GREGORIAN
BEGIN:VEVENT
DTSTART:20080904T210000Z
DTEND:20080905T000000Z
X-MICROSOFT-CDO-ALLDAYEVENT:FALSE
SUMMARY:Ribbon Cutting & Open House: Edward Jones: Johnny Russell
DESCRIPTION:Ribbon Cutting & Grand Opening scheduled for one of our newest members\, Edward Jones Investments - Johnny Russell. We are very excited Johnny has chosen Angleton to house his office. Come out and join Chamber members in celebrating their ribbon cutting!
X-ALT-DESC;FMTTYPE=text/html:<div id="pastedDivNode" name="pastedNode"><span>Ribbon Cutting &amp\; Grand Opening scheduled for one of our newest members\, Edward Jones Investments - Johnny Russell. We are very excited Johnny has chosen Angleton to house his office.&nbsp\;Come out and join Chamber members in celebrating their ribbon cutting!</span></div>
LOCATION:2513 North Velasco\, AngletonIn the Stewart Title Building
UID:e.163.4395
SEQUENCE:3
DTSTAMP:20260420T232547Z
URL:https://business.angletonchamber.org/events/details/ribbon-cutting-open-house-edward-jones-johnny-russell-09-04-2008-4395
END:VEVENT

END:VCALENDAR
