BEGIN:VCALENDAR
VERSION:2.0
PRODID:-//ChamberMaster//Event Calendar 2.0//EN
METHOD:PUBLISH
X-PUBLISHED-TTL:P3D
REFRESH-INTERVAL:P3D
CALSCALE:GREGORIAN
BEGIN:VEVENT
DTSTART:20090211T180000Z
DTEND:20090211T190000Z
X-MICROSOFT-CDO-ALLDAYEVENT:FALSE
SUMMARY:Ribbon Cutting-Powerhouse Cheer & Dance Academy-Amber Yanez
DESCRIPTION:
X-ALT-DESC;FMTTYPE=text/html:
LOCATION:1104 East Mulberry St Angleton\, TX 77515 (979) 864-3089
UID:e.163.5269
SEQUENCE:3
DTSTAMP:20260420T152347Z
URL:https://business.angletonchamber.org/events/details/ribbon-cutting-powerhouse-cheer-dance-academy-amber-yanez-02-11-2009-5269
END:VEVENT

END:VCALENDAR
