BEGIN:VCALENDAR
VERSION:2.0
PRODID:-//ChamberMaster//Event Calendar 2.0//EN
METHOD:PUBLISH
X-PUBLISHED-TTL:P3D
REFRESH-INTERVAL:P3D
CALSCALE:GREGORIAN
BEGIN:VEVENT
DTSTART:20081118T180000Z
DTEND:20081118T190000Z
X-MICROSOFT-CDO-ALLDAYEVENT:FALSE
SUMMARY:RibbonCutting ABBA Health Plans-Independent Producers of America\,LLC Laura Glaze
DESCRIPTION:Ribbon Cutting! ABBA Health Plans-Independent Producers of America\, LLCLaura Glaze - Account Executive
X-ALT-DESC;FMTTYPE=text/html:<div class="txtHeading">Ribbon Cutting!</div><div class="txtHeading">&nbsp\;</div><div class="txtHeading">ABBA Health Plans-Independent Producers of America\, LLC</div><div><strong>Laura Glaze - Account Executive</strong></div>
LOCATION:Here at the Chamber445 East Mulberry
UID:e.163.4511
SEQUENCE:3
DTSTAMP:20260420T200741Z
URL:https://business.angletonchamber.org/events/details/ribboncutting-abba-health-plans-independent-producers-of-america-llc-laura-glaze-11-18-2008-4511
END:VEVENT

END:VCALENDAR
