BEGIN:VCALENDAR
VERSION:2.0
PRODID:-//ChamberMaster//Event Calendar 2.0//EN
METHOD:PUBLISH
X-PUBLISHED-TTL:P3D
REFRESH-INTERVAL:P3D
CALSCALE:GREGORIAN
BEGIN:VEVENT
DTSTART:20210318T170000Z
DTEND:20210318T180000Z
X-MICROSOFT-CDO-ALLDAYEVENT:FALSE
SUMMARY:SHOT IN THE DARK PLANNING MEETING
DESCRIPTION:
X-ALT-DESC;FMTTYPE=text/html:
LOCATION:The Chamber or ZOOM
UID:e.163.26468
SEQUENCE:3
DTSTAMP:20260424T192428Z
URL:https://business.angletonchamber.org/events/details/shot-in-the-dark-planning-meeting-26468
END:VEVENT

END:VCALENDAR
