BEGIN:VCALENDAR
VERSION:2.0
PRODID:-//ChamberMaster//Event Calendar 2.0//EN
METHOD:PUBLISH
X-PUBLISHED-TTL:P3D
REFRESH-INTERVAL:P3D
CALSCALE:GREGORIAN
BEGIN:VEVENT
DTSTART:20081025T230000Z
DTEND:20081026T020000Z
X-MICROSOFT-CDO-ALLDAYEVENT:FALSE
SUMMARY:Varner-Hogg Harvest Hayride & Festival
DESCRIPTION:Hop aboard Varner-Hogg Plantation State Historic Site?s harvest hayride and join us as the site celebrates its first annual Harvest Festival.  Spend the evening strolling through the barn to see the tools and wagons used during harvests of the 1800s\, and stop by the garden to see sugar cane grow\, learn how it?s harvested\, and even taste a sample.  Visitors may also take pictures with one of the site?s scarecrows while enjoying crafts\, refreshments\, FFA animals\, and storytelling.
X-ALT-DESC;FMTTYPE=text/html:Hop aboard Varner-Hogg Plantation State Historic Site?s harvest hayride and join us as the site celebrates its first annual Harvest Festival.  Spend the evening strolling through the barn to see the tools and wagons used during harvests of the 1800s\, and stop by the garden to see sugar cane grow\, learn how it?s harvested\, and even taste a sample.  Visitors may also take pictures with one of the site?s scarecrows while enjoying crafts\, refreshments\, FFA animals\, and storytelling.  
LOCATION:Varner-Hogg Plantation State Historic Site
UID:e.163.4471
SEQUENCE:3
DTSTAMP:20260420T215014Z
URL:https://business.angletonchamber.org/events/details/varner-hogg-harvest-hayride-festival-10-25-2008-4471
END:VEVENT

END:VCALENDAR
