BEGIN:VCALENDAR
VERSION:2.0
PRODID:-//ChamberMaster//Event Calendar 2.0//EN
METHOD:PUBLISH
X-PUBLISHED-TTL:P3D
REFRESH-INTERVAL:P3D
CALSCALE:GREGORIAN
BEGIN:VEVENT
DTSTART:20090430T233000Z
DTEND:20090501T013000Z
X-MICROSOFT-CDO-ALLDAYEVENT:FALSE
SUMMARY:Wild Women of God Ladies Meeting
DESCRIPTION:Trinity Christian Center hostWild Women of GodLadies Meeting Join Us for coffee\, desserts\, an uplifting message and great fellowship!
X-ALT-DESC;FMTTYPE=text/html:<div>Trinity Christian Center host</div><div>Wild Women of God</div><div>Ladies Meeting</div><div>&nbsp\;</div><div>Join Us for coffee\, desserts\, an uplifting message and great fellowship!</div>
LOCATION:Trinity Christian Center1280 Hospital DrAngleton Tx 77515979-849-7361
UID:e.163.5563
SEQUENCE:3
DTSTAMP:20260420T121343Z
URL:https://business.angletonchamber.org/events/details/wild-women-of-god-ladies-meeting-04-30-2009-5563
END:VEVENT

END:VCALENDAR
