BEGIN:VCALENDAR
VERSION:2.0
PRODID:-//ChamberMaster//Event Calendar 2.0//EN
METHOD:PUBLISH
X-PUBLISHED-TTL:P3D
REFRESH-INTERVAL:P3D
CALSCALE:GREGORIAN
BEGIN:VEVENT
DTSTART:20230518T150000Z
DTEND:20230519T000000Z
X-MICROSOFT-CDO-ALLDAYEVENT:FALSE
SUMMARY:Zoom with CASA
DESCRIPTION:Your invited to join us for a no pressure info session on May 18th\, at 10 AM and 7 PM via Zoom. Come learn about CASA and how we advocate for children in the foster care system. If you want to make an impact on a child who has experience abuse and/or neglect\, please don't miss the chance to talk with a CASA volunteer.
X-ALT-DESC;FMTTYPE=text/html:<span style="background-color:rgb(255\, 255\, 255)\; color:rgba(0\, 0\, 0\, 0.85)\; font-family:roboto\,arial\,sans-serif\; font-size:14px">Your invited to join us for a no pressure info session on May 18th\, at 10 AM and 7 PM via Zoom. Come learn about CASA and how we advocate for children in the foster care system. If you want to make an impact on a child who has experience abuse and/or neglect\, please don&#39\;t miss the chance to talk with a CASA volunteer.</span>
LOCATION:Via Zoom: 10 AM: https://us05web.zoom.us/j/88060191469?pwd=U3QyQWVsTzNpZWNTeHJZZWtTRzBaQT09 7 PM: https://us05web.zoom.us/j/82492347755?pwd=LzZuS3Zuay9iT1BrTjNOdGdyRG9uZz09 AM: https://us05web.zoom.us/j/88060191469?pwd=U3QyQWVsTzNpZWNTeHJZZWtTRzBaQT09 https://us05web.zoom.us/j/82492347755?pwd=LzZuS3Zuay9iT1BrTjNOdGdyRG9uZz09
UID:e.163.27162
SEQUENCE:3
DTSTAMP:20260425T144308Z
URL:https://business.angletonchamber.org/events/details/zoom-with-casa-05-18-2023-27162
END:VEVENT

END:VCALENDAR
